BEGIN:VCALENDAR
VERSION:2.0
PRODID:-//eventon.com NONSGML v1.0//EN
CALSCALE:GREGORIAN
METHOD:PUBLISH
BEGIN:VEVENT
UID:69e7dfc9aea21
DTSTAMP:20260422T033625
DTSTART:20191005T170000Z
DTEND:20191005T170000Z
TZID:Asia/Bangkok
LOCATION:นครราชสีมา 
SUMMARY:วิ่งชีวมณฑล @สะแกราช
DESCRIPTION: วิ่งชีวมณฑล @สะแกราช\nhttps://patrunning.com/events/%e0%b8%a7%e0%b8%b4%e0%b9%88%e0%b8%87%e0%b8%8a%e0%b8%b5%e0%b8%a7%e0%b8%a1%e0%b8%93%e0%b8%91%e0%b8%a5-%e0%b8%aa%e0%b8%b0%e0%b9%81%e0%b8%81%e0%b8%a3%e0%b8%b2%e0%b8%8a/
URL:https://patrunning.com/events/%e0%b8%a7%e0%b8%b4%e0%b9%88%e0%b8%87%e0%b8%8a%e0%b8%b5%e0%b8%a7%e0%b8%a1%e0%b8%93%e0%b8%91%e0%b8%a5-%e0%b8%aa%e0%b8%b0%e0%b9%81%e0%b8%81%e0%b8%a3%e0%b8%b2%e0%b8%8a/
END:VEVENT
END:VCALENDAR