BEGIN:VCALENDAR
VERSION:2.0
PRODID:-//eventon.com NONSGML v1.0//EN
CALSCALE:GREGORIAN
METHOD:PUBLISH
BEGIN:VEVENT
UID:69e79ae67a53b
DTSTAMP:20260421T224230
DTSTART:20191026T170000Z
DTEND:20191026T170000Z
TZID:Asia/Bangkok
LOCATION:ระยอง 
SUMMARY:ISUZU ROBOMAN 4×4 Trail Challenge 2019
DESCRIPTION: ISUZU ROBOMAN 4×4 Trail Challenge 2019\nhttps://patrunning.com/events/isuzu-roboman-4x4-trail-challenge-2019/
URL:https://patrunning.com/events/isuzu-roboman-4x4-trail-challenge-2019/
END:VEVENT
END:VCALENDAR