BEGIN:VCALENDAR
VERSION:2.0
PRODID:-//eventon.com NONSGML v1.0//EN
CALSCALE:GREGORIAN
METHOD:PUBLISH
BEGIN:VEVENT
UID:69e7dfc841e41
DTSTAMP:20260422T033624
DTSTART:20191116T170000Z
DTEND:20191116T170000Z
TZID:Asia/Bangkok
LOCATION:นครราชสีมา 
SUMMARY:วิ่งด้วยกัน RUN DA DER (รัน ดา เด้อ) ก้าวนี้เพื่อโรงพยาบาลสูงเนิน
DESCRIPTION: วิ่งด้วยกัน RUN DA DER (รัน ดา เด้อ) ก้าวนี้เพื่อโรงพยาบาลสูงเนิน\nhttps://patrunning.com/events/%e0%b8%a7%e0%b8%b4%e0%b9%88%e0%b8%87%e0%b8%94%e0%b9%89%e0%b8%a7%e0%b8%a2%e0%b8%81%e0%b8%b1%e0%b8%99-run-da-der-%e0%b8%a3%e0%b8%b1%e0%b8%99-%e0%b8%94%e0%b8%b2-%e0%b9%80%e0%b8%94%e0%b9%89%e0%b8%ad/
URL:https://patrunning.com/events/%e0%b8%a7%e0%b8%b4%e0%b9%88%e0%b8%87%e0%b8%94%e0%b9%89%e0%b8%a7%e0%b8%a2%e0%b8%81%e0%b8%b1%e0%b8%99-run-da-der-%e0%b8%a3%e0%b8%b1%e0%b8%99-%e0%b8%94%e0%b8%b2-%e0%b9%80%e0%b8%94%e0%b9%89%e0%b8%ad/
END:VEVENT
END:VCALENDAR