BEGIN:VCALENDAR
VERSION:2.0
PRODID:-//eventon.com NONSGML v1.0//EN
CALSCALE:GREGORIAN
METHOD:PUBLISH
BEGIN:VEVENT
UID:69e79dccdd34d
DTSTAMP:20260421T225452
DTSTART:20191116T170000Z
DTEND:20191116T170000Z
TZID:Asia/Bangkok
LOCATION:ระยอง 
SUMMARY:วิ่งเพื่อน้อง
DESCRIPTION: วิ่งเพื่อน้อง\nhttps://patrunning.com/events/%e0%b8%a7%e0%b8%b4%e0%b9%88%e0%b8%87%e0%b9%80%e0%b8%9e%e0%b8%b7%e0%b9%88%e0%b8%ad%e0%b8%99%e0%b9%89%e0%b8%ad%e0%b8%87/
URL:https://patrunning.com/events/%e0%b8%a7%e0%b8%b4%e0%b9%88%e0%b8%87%e0%b9%80%e0%b8%9e%e0%b8%b7%e0%b9%88%e0%b8%ad%e0%b8%99%e0%b9%89%e0%b8%ad%e0%b8%87/
END:VEVENT
END:VCALENDAR