BEGIN:VCALENDAR
VERSION:2.0
PRODID:-//eventon.com NONSGML v1.0//EN
CALSCALE:GREGORIAN
METHOD:PUBLISH
BEGIN:VEVENT
UID:69ebc7059244f
DTSTAMP:20260425T023949
DTSTART:20190921T170000Z
DTEND:20190921T170000Z
TZID:Asia/Bangkok
LOCATION:นครพนม 
SUMMARY:วิ่ง สะออน RUN 2019
DESCRIPTION: วิ่ง สะออน RUN 2019\nhttps://patrunning.com/events/%e0%b8%a7%e0%b8%b4%e0%b9%88%e0%b8%87-%e0%b8%aa%e0%b8%b0%e0%b8%ad%e0%b8%ad%e0%b8%99-run-2019/
URL:https://patrunning.com/events/%e0%b8%a7%e0%b8%b4%e0%b9%88%e0%b8%87-%e0%b8%aa%e0%b8%b0%e0%b8%ad%e0%b8%ad%e0%b8%99-run-2019/
END:VEVENT
END:VCALENDAR