BEGIN:VCALENDAR
VERSION:2.0
PRODID:-//eventon.com NONSGML v1.0//EN
CALSCALE:GREGORIAN
METHOD:PUBLISH
BEGIN:VEVENT
UID:69e7dfa19411e
DTSTAMP:20260422T033545
DTSTART:20200307T170000Z
DTEND:20200307T170000Z
TZID:Asia/Bangkok
LOCATION:นครราชสีมา 
SUMMARY:Korat Powdurance Marathon 2020
DESCRIPTION: Korat Powdurance Marathon 2020\nhttps://patrunning.com/events/korat-powdurance-marathon-2020/
URL:https://patrunning.com/events/korat-powdurance-marathon-2020/
END:VEVENT
END:VCALENDAR