BEGIN:VCALENDAR
VERSION:2.0
PRODID:-//eventon.com NONSGML v1.0//EN
CALSCALE:GREGORIAN
METHOD:PUBLISH
BEGIN:VEVENT
UID:69e79de03008e
DTSTAMP:20260421T225512
DTSTART:20190913T170000Z
DTEND:20190913T170000Z
TZID:Asia/Bangkok
LOCATION:ระยอง 
SUMMARY:Rayong Night Run Mini Marathon 2019
DESCRIPTION: Rayong Night Run Mini Marathon 2019\nhttps://patrunning.com/events/rayong-night-run-mini-marathon-2019/
URL:https://patrunning.com/events/rayong-night-run-mini-marathon-2019/
END:VEVENT
END:VCALENDAR