BEGIN:VCALENDAR
VERSION:2.0
PRODID:-//eventon.com NONSGML v1.0//EN
CALSCALE:GREGORIAN
METHOD:PUBLISH
BEGIN:VEVENT
UID:69ebc74cc8ca1
DTSTAMP:20260425T024100
DTSTART:20190921T170000Z
DTEND:20190921T170000Z
TZID:Asia/Bangkok
LOCATION:นครพนม 
SUMMARY:สะออนRun Season 2 at 2019
DESCRIPTION: สะออนRun Season 2 at 2019\nhttps://patrunning.com/events/%e0%b8%aa%e0%b8%b0%e0%b8%ad%e0%b8%ad%e0%b8%99run-season-2-at-2019/
URL:https://patrunning.com/events/%e0%b8%aa%e0%b8%b0%e0%b8%ad%e0%b8%ad%e0%b8%99run-season-2-at-2019/
END:VEVENT
END:VCALENDAR