BEGIN:VCALENDAR
VERSION:2.0
PRODID:-//eventon.com NONSGML v1.0//EN
CALSCALE:GREGORIAN
METHOD:PUBLISH
BEGIN:VEVENT
UID:69e79ac39c8f2
DTSTAMP:20260421T224155
DTSTART:20191101T170000Z
DTEND:20191101T170000Z
TZID:Asia/Bangkok
LOCATION:ระยอง 
SUMMARY:เทศบาลเนินพระ – วีนิไทย ซุปเปอร์มินิมาราธอน ครั้งที่ 10
DESCRIPTION: เทศบาลเนินพระ – วีนิไทย ซุปเปอร์มินิมาราธอน ครั้งที่ 10\nhttps://patrunning.com/events/%e0%b9%80%e0%b8%97%e0%b8%a8%e0%b8%9a%e0%b8%b2%e0%b8%a5%e0%b9%80%e0%b8%99%e0%b8%b4%e0%b8%99%e0%b8%9e%e0%b8%a3%e0%b8%b0-%e0%b8%a7%e0%b8%b5%e0%b8%99%e0%b8%b4%e0%b9%84%e0%b8%97%e0%b8%a2-%e0%b8%8b/
URL:https://patrunning.com/events/%e0%b9%80%e0%b8%97%e0%b8%a8%e0%b8%9a%e0%b8%b2%e0%b8%a5%e0%b9%80%e0%b8%99%e0%b8%b4%e0%b8%99%e0%b8%9e%e0%b8%a3%e0%b8%b0-%e0%b8%a7%e0%b8%b5%e0%b8%99%e0%b8%b4%e0%b9%84%e0%b8%97%e0%b8%a2-%e0%b8%8b/
END:VEVENT
END:VCALENDAR