BEGIN:VCALENDAR
VERSION:2.0
PRODID:-//eventon.com NONSGML v1.0//EN
CALSCALE:GREGORIAN
METHOD:PUBLISH
BEGIN:VEVENT
UID:69e759272953e
DTSTAMP:20260421T180159
DTSTART:20191012T170000Z
DTEND:20191012T170000Z
TZID:Asia/Bangkok
LOCATION:ประจวบคีรีขันธ์ 
SUMMARY:วิ่งเพื่อน้อง สามร้อยยอดฮาล์ฟมาราธอน
DESCRIPTION: วิ่งเพื่อน้อง สามร้อยยอดฮาล์ฟมาราธอน\nhttps://patrunning.com/events/%e0%b8%a7%e0%b8%b4%e0%b9%88%e0%b8%87%e0%b9%80%e0%b8%9e%e0%b8%b7%e0%b9%88%e0%b8%ad%e0%b8%99%e0%b9%89%e0%b8%ad%e0%b8%87-%e0%b8%aa%e0%b8%b2%e0%b8%a1%e0%b8%a3%e0%b9%89%e0%b8%ad%e0%b8%a2%e0%b8%a2%e0%b8%ad/
URL:https://patrunning.com/events/%e0%b8%a7%e0%b8%b4%e0%b9%88%e0%b8%87%e0%b9%80%e0%b8%9e%e0%b8%b7%e0%b9%88%e0%b8%ad%e0%b8%99%e0%b9%89%e0%b8%ad%e0%b8%87-%e0%b8%aa%e0%b8%b2%e0%b8%a1%e0%b8%a3%e0%b9%89%e0%b8%ad%e0%b8%a2%e0%b8%a2%e0%b8%ad/
END:VEVENT
END:VCALENDAR