BEGIN:VCALENDAR
VERSION:2.0
PRODID:-//eventon.com NONSGML v1.0//EN
CALSCALE:GREGORIAN
METHOD:PUBLISH
BEGIN:VEVENT
UID:69e7dffb64cbd
DTSTAMP:20260422T033715
DTSTART:20191019T170000Z
DTEND:20191019T170000Z
TZID:Asia/Bangkok
LOCATION:นครราชสีมา 
SUMMARY:VIRTUAL RUN / รันเพลินเพลิน สัญจร ปีที่ 2
DESCRIPTION: VIRTUAL RUN / รันเพลินเพลิน สัญจร ปีที่ 2\nhttps://patrunning.com/events/virtual-run-%e0%b8%a3%e0%b8%b1%e0%b8%99%e0%b9%80%e0%b8%9e%e0%b8%a5%e0%b8%b4%e0%b8%99%e0%b9%80%e0%b8%9e%e0%b8%a5%e0%b8%b4%e0%b8%99-%e0%b8%aa%e0%b8%b1%e0%b8%8d%e0%b8%88%e0%b8%a3-%e0%b8%9b%e0%b8%b5/
URL:https://patrunning.com/events/virtual-run-%e0%b8%a3%e0%b8%b1%e0%b8%99%e0%b9%80%e0%b8%9e%e0%b8%a5%e0%b8%b4%e0%b8%99%e0%b9%80%e0%b8%9e%e0%b8%a5%e0%b8%b4%e0%b8%99-%e0%b8%aa%e0%b8%b1%e0%b8%8d%e0%b8%88%e0%b8%a3-%e0%b8%9b%e0%b8%b5/
END:VEVENT
END:VCALENDAR