BEGIN:VCALENDAR
VERSION:2.0
PRODID:-//eventon.com NONSGML v1.0//EN
CALSCALE:GREGORIAN
METHOD:PUBLISH
BEGIN:VEVENT
UID:69e79afd8169d
DTSTAMP:20260421T224253
DTSTART:20191123T170000Z
DTEND:20191123T170000Z
TZID:Asia/Bangkok
LOCATION:ระยอง 
SUMMARY:GC RAYONG MARATHON 2019 เลื่อนไปจัด 17 พ.ย.62
DESCRIPTION: GC RAYONG MARATHON 2019 เลื่อนไปจัด 17 พ.ย.62\nhttps://patrunning.com/events/gc-rayong-marathon-2019/
URL:https://patrunning.com/events/gc-rayong-marathon-2019/
END:VEVENT
END:VCALENDAR