BEGIN:VCALENDAR
VERSION:2.0
PRODID:-//eventon.com NONSGML v1.0//EN
CALSCALE:GREGORIAN
METHOD:PUBLISH
BEGIN:VEVENT
UID:69e7dffb657ee
DTSTAMP:20260422T033715
DTSTART:20200131T170000Z
DTEND:20200131T170000Z
TZID:Asia/Bangkok
LOCATION:นครราชสีมา 
SUMMARY:The North Face 100 Thailand 2020
DESCRIPTION: The North Face 100 Thailand 2020\nhttps://patrunning.com/events/the-north-face-100-thailand-2020/
URL:https://patrunning.com/events/the-north-face-100-thailand-2020/
END:VEVENT
END:VCALENDAR