BEGIN:VCALENDAR
VERSION:2.0
PRODID:-//eventon.com NONSGML v1.0//EN
CALSCALE:GREGORIAN
METHOD:PUBLISH
BEGIN:VEVENT
UID:69e7f809def48
DTSTAMP:20260422T051953
DTSTART:20190927T170000Z
DTEND:20190927T170000Z
TZID:Asia/Bangkok
LOCATION:นครราชสีมา 
SUMMARY:วิ่งตะโกนรัก ณ บ้านปราสาท ณ โคราช
DESCRIPTION: วิ่งตะโกนรัก ณ บ้านปราสาท ณ โคราช\nhttps://patrunning.com/events/%e0%b8%a7%e0%b8%b4%e0%b9%88%e0%b8%87%e0%b8%95%e0%b8%b0%e0%b9%82%e0%b8%81%e0%b8%99%e0%b8%a3%e0%b8%b1%e0%b8%81-%e0%b8%93-%e0%b8%9a%e0%b9%89%e0%b8%b2%e0%b8%99%e0%b8%9b%e0%b8%a3%e0%b8%b2%e0%b8%aa%e0%b8%b2/
URL:https://patrunning.com/events/%e0%b8%a7%e0%b8%b4%e0%b9%88%e0%b8%87%e0%b8%95%e0%b8%b0%e0%b9%82%e0%b8%81%e0%b8%99%e0%b8%a3%e0%b8%b1%e0%b8%81-%e0%b8%93-%e0%b8%9a%e0%b9%89%e0%b8%b2%e0%b8%99%e0%b8%9b%e0%b8%a3%e0%b8%b2%e0%b8%aa%e0%b8%b2/
END:VEVENT
END:VCALENDAR