BEGIN:VCALENDAR
VERSION:2.0
PRODID:-//eventon.com NONSGML v1.0//EN
CALSCALE:GREGORIAN
METHOD:PUBLISH
BEGIN:VEVENT
UID:69e7f7b204367
DTSTAMP:20260422T051826
DTSTART:20191019T170000Z
DTEND:20191019T170000Z
TZID:Asia/Bangkok
LOCATION:นครราชสีมา 
SUMMARY:TOYOTA LIVE ALIVE RUN SERIES 2019 สนาม #จังหวัดนครราชสีมา
DESCRIPTION: TOYOTA LIVE ALIVE RUN SERIES 2019 สนาม #จังหวัดนครราชสีมา\nhttps://patrunning.com/events/toyota-live-alive-run-series-2019-%e0%b8%aa%e0%b8%99%e0%b8%b2%e0%b8%a1-%e0%b8%88%e0%b8%b1%e0%b8%87%e0%b8%ab%e0%b8%a7%e0%b8%b1%e0%b8%94%e0%b8%99%e0%b8%84%e0%b8%a3%e0%b8%a3%e0%b8%b2%e0%b8%8a%e0%b8%aa/
URL:https://patrunning.com/events/toyota-live-alive-run-series-2019-%e0%b8%aa%e0%b8%99%e0%b8%b2%e0%b8%a1-%e0%b8%88%e0%b8%b1%e0%b8%87%e0%b8%ab%e0%b8%a7%e0%b8%b1%e0%b8%94%e0%b8%99%e0%b8%84%e0%b8%a3%e0%b8%a3%e0%b8%b2%e0%b8%8a%e0%b8%aa/
END:VEVENT
END:VCALENDAR