BEGIN:VCALENDAR
VERSION:2.0
PRODID:-//eventon.com NONSGML v1.0//EN
CALSCALE:GREGORIAN
METHOD:PUBLISH
BEGIN:VEVENT
UID:69e7f7c5e37d2
DTSTAMP:20260422T051845
DTSTART:20190914T170000Z
DTEND:20190914T170000Z
TZID:Asia/Bangkok
LOCATION:นครราชสีมา 
SUMMARY:วิ่งเพื่อช่วยสัตว์ป่าที่เขาใหญ่
DESCRIPTION: วิ่งเพื่อช่วยสัตว์ป่าที่เขาใหญ่\nhttps://patrunning.com/events/%e0%b8%a7%e0%b8%b4%e0%b9%88%e0%b8%87%e0%b9%80%e0%b8%9e%e0%b8%b7%e0%b9%88%e0%b8%ad%e0%b8%8a%e0%b9%88%e0%b8%a7%e0%b8%a2%e0%b8%aa%e0%b8%b1%e0%b8%95%e0%b8%a7%e0%b9%8c%e0%b8%9b%e0%b9%88%e0%b8%b2%e0%b8%97/
URL:https://patrunning.com/events/%e0%b8%a7%e0%b8%b4%e0%b9%88%e0%b8%87%e0%b9%80%e0%b8%9e%e0%b8%b7%e0%b9%88%e0%b8%ad%e0%b8%8a%e0%b9%88%e0%b8%a7%e0%b8%a2%e0%b8%aa%e0%b8%b1%e0%b8%95%e0%b8%a7%e0%b9%8c%e0%b8%9b%e0%b9%88%e0%b8%b2%e0%b8%97/
END:VEVENT
END:VCALENDAR