BEGIN:VCALENDAR
VERSION:2.0
PRODID:-//eventon.com NONSGML v1.0//EN
CALSCALE:GREGORIAN
METHOD:PUBLISH
BEGIN:VEVENT
UID:69e76d7101040
DTSTAMP:20260421T192833
DTSTART:20190921T170000Z
DTEND:20190921T170000Z
TZID:Asia/Bangkok
LOCATION:ประจวบคีรีขันธ์ 
SUMMARY:สามร้อยยอด ครอส รัน
DESCRIPTION: สามร้อยยอด ครอส รัน\nhttps://patrunning.com/events/%e0%b8%aa%e0%b8%b2%e0%b8%a1%e0%b8%a3%e0%b9%89%e0%b8%ad%e0%b8%a2%e0%b8%a2%e0%b8%ad%e0%b8%94-%e0%b8%84%e0%b8%a3%e0%b8%ad%e0%b8%aa-%e0%b8%a3%e0%b8%b1%e0%b8%99/
URL:https://patrunning.com/events/%e0%b8%aa%e0%b8%b2%e0%b8%a1%e0%b8%a3%e0%b9%89%e0%b8%ad%e0%b8%a2%e0%b8%a2%e0%b8%ad%e0%b8%94-%e0%b8%84%e0%b8%a3%e0%b8%ad%e0%b8%aa-%e0%b8%a3%e0%b8%b1%e0%b8%99/
END:VEVENT
END:VCALENDAR