BEGIN:VCALENDAR
VERSION:2.0
PRODID:-//eventon.com NONSGML v1.0//EN
CALSCALE:GREGORIAN
METHOD:PUBLISH
BEGIN:VEVENT
UID:69e76dba93c27
DTSTAMP:20260421T192946
DTSTART:20191116T170000Z
DTEND:20191116T170000Z
TZID:Asia/Bangkok
LOCATION:ประจวบคีรีขันธ์ 
SUMMARY:PRACHUAP CHARITY RUN FOR CHILD
DESCRIPTION: PRACHUAP CHARITY RUN FOR CHILD\nhttps://patrunning.com/events/prachuap-charity-run-for-child/
URL:https://patrunning.com/events/prachuap-charity-run-for-child/
END:VEVENT
END:VCALENDAR