BEGIN:VCALENDAR
VERSION:2.0
PRODID:-//eventon.com NONSGML v1.0//EN
CALSCALE:GREGORIAN
METHOD:PUBLISH
BEGIN:VEVENT
UID:69e79dccf0ae9
DTSTAMP:20260421T225452
DTSTART:20191116T170000Z
DTEND:20191116T170000Z
TZID:Asia/Bangkok
LOCATION:ระยอง 
SUMMARY:GC RAYONG MARATHON 2019 เลื่อนมาจาก 24 พ.ย. 62
DESCRIPTION: GC RAYONG MARATHON 2019 เลื่อนมาจาก 24 พ.ย. 62\nhttps://patrunning.com/events/gc-rayong-marathon-2019-%e0%b9%80%e0%b8%a5%e0%b8%b7%e0%b9%88%e0%b8%ad%e0%b8%99%e0%b8%a1%e0%b8%b2%e0%b8%88%e0%b8%b2%e0%b8%81-24-%e0%b8%9e-%e0%b8%a2-62/
URL:https://patrunning.com/events/gc-rayong-marathon-2019-%e0%b9%80%e0%b8%a5%e0%b8%b7%e0%b9%88%e0%b8%ad%e0%b8%99%e0%b8%a1%e0%b8%b2%e0%b8%88%e0%b8%b2%e0%b8%81-24-%e0%b8%9e-%e0%b8%a2-62/
END:VEVENT
END:VCALENDAR