BEGIN:VCALENDAR
VERSION:2.0
PRODID:-//eventon.com NONSGML v1.0//EN
CALSCALE:GREGORIAN
METHOD:PUBLISH
BEGIN:VEVENT
UID:69e79fd22292c
DTSTAMP:20260421T230330
DTSTART:20210424T170000Z
DTEND:20210424T170000Z
TZID:Asia/Bangkok
LOCATION:ระยอง 
SUMMARY:PEAK MOUNTAIN ULTRA & TRAIL : Sampaothong Scout Camp (เลื่อนไม่มีกำหนด)
DESCRIPTION: PEAK MOUNTAIN ULTRA & TRAIL : Sampaothong Scout Camp (เลื่อนไม่มีกำหนด)\nhttps://patrunning.com/events/peak-mountain-ultra-trail-sampaothong-scout-camp-%e0%b9%80%e0%b8%a5%e0%b8%b7%e0%b9%88%e0%b8%ad%e0%b8%99%e0%b9%84%e0%b8%a1%e0%b9%88%e0%b8%a1%e0%b8%b5%e0%b8%81%e0%b8%b3%e0%b8%ab%e0%b8%99%e0%b8%94/
URL:https://patrunning.com/events/peak-mountain-ultra-trail-sampaothong-scout-camp-%e0%b9%80%e0%b8%a5%e0%b8%b7%e0%b9%88%e0%b8%ad%e0%b8%99%e0%b9%84%e0%b8%a1%e0%b9%88%e0%b8%a1%e0%b8%b5%e0%b8%81%e0%b8%b3%e0%b8%ab%e0%b8%99%e0%b8%94/
END:VEVENT
END:VCALENDAR