BEGIN:VCALENDAR
VERSION:2.0
PRODID:-//eventon.com NONSGML v1.0//EN
CALSCALE:GREGORIAN
METHOD:PUBLISH
BEGIN:VEVENT
UID:69ebc74ddb382
DTSTAMP:20260425T024101
DTSTART:20210501T170000Z
DTEND:20210501T170000Z
TZID:Asia/Bangkok
LOCATION:นครพนม 
SUMMARY:วิ่งเลาะโขง อุเทนวิทยาคารมินิมาราธอน 2021 (เลื่อนรอกำหนดใหม่)
DESCRIPTION: วิ่งเลาะโขง อุเทนวิทยาคารมินิมาราธอน 2021 (เลื่อนรอกำหนดใหม่)\nhttps://patrunning.com/events/%e0%b8%a7%e0%b8%b4%e0%b9%88%e0%b8%87%e0%b9%80%e0%b8%a5%e0%b8%b2%e0%b8%b0%e0%b9%82%e0%b8%82%e0%b8%87-%e0%b8%ad%e0%b8%b8%e0%b9%80%e0%b8%97%e0%b8%99%e0%b8%a7%e0%b8%b4%e0%b8%97%e0%b8%a2%e0%b8%b2%e0%b8%84/
URL:https://patrunning.com/events/%e0%b8%a7%e0%b8%b4%e0%b9%88%e0%b8%87%e0%b9%80%e0%b8%a5%e0%b8%b2%e0%b8%b0%e0%b9%82%e0%b8%82%e0%b8%87-%e0%b8%ad%e0%b8%b8%e0%b9%80%e0%b8%97%e0%b8%99%e0%b8%a7%e0%b8%b4%e0%b8%97%e0%b8%a2%e0%b8%b2%e0%b8%84/
END:VEVENT
END:VCALENDAR