BEGIN:VCALENDAR
VERSION:2.0
PRODID:-//eventon.com NONSGML v1.0//EN
CALSCALE:GREGORIAN
METHOD:PUBLISH
BEGIN:VEVENT
UID:69e75335afb93
DTSTAMP:20260421T173637
DTSTART:20210508T170000Z
DTEND:20210508T170000Z
TZID:Asia/Bangkok
LOCATION:ประจวบคีรีขันธ์ 
SUMMARY:HUA HIN Marathon 2021 (เลื่อนไป 8 พ.ค.65)
DESCRIPTION: HUA HIN Marathon 2021 (เลื่อนไป 8 พ.ค.65)\nhttps://patrunning.com/events/hua-hin-marathon-2020/
URL:https://patrunning.com/events/hua-hin-marathon-2020/
END:VEVENT
END:VCALENDAR