BEGIN:VCALENDAR
VERSION:2.0
PRODID:-//eventon.com NONSGML v1.0//EN
CALSCALE:GREGORIAN
METHOD:PUBLISH
BEGIN:VEVENT
UID:69e4ee39bba7b
DTSTAMP:20260419T220113
DTSTART:20220508T110000Z
DTEND:20220508T110000Z
TZID:Pacific/Midway
LOCATION:ประจวบคีรีขันธ์ 
SUMMARY:CHA AM-HUA HIN MARATHON 2022
DESCRIPTION: CHA AM-HUA HIN MARATHON 2022\nhttps://patrunning.com/events/hua-hin-marathon-2021-%e0%b9%80%e0%b8%a5%e0%b8%b7%e0%b9%88%e0%b8%ad%e0%b8%99%e0%b8%a1%e0%b8%b2%e0%b8%88%e0%b8%b2%e0%b8%81-9-%e0%b8%9e-%e0%b8%84-64/
URL:https://patrunning.com/events/hua-hin-marathon-2021-%e0%b9%80%e0%b8%a5%e0%b8%b7%e0%b9%88%e0%b8%ad%e0%b8%99%e0%b8%a1%e0%b8%b2%e0%b8%88%e0%b8%b2%e0%b8%81-9-%e0%b8%9e-%e0%b8%84-64/
END:VEVENT
END:VCALENDAR