BEGIN:VCALENDAR
VERSION:2.0
PRODID:-//eventon.com NONSGML v1.0//EN
CALSCALE:GREGORIAN
METHOD:PUBLISH
BEGIN:VEVENT
UID:69e7f80a6618b
DTSTAMP:20260422T051954
DTSTART:20210516T110000Z
DTEND:20210516T110000Z
TZID:Pacific/Midway
LOCATION:นครราชสีมา 
SUMMARY:PEAK เขาใหญ่ ปากช่อง trail  (เลื่อนไป 27 มี.ค.65)
DESCRIPTION: PEAK เขาใหญ่ ปากช่อง trail  (เลื่อนไป 27 มี.ค.65)\nhttps://patrunning.com/events/peak-%e0%b9%80%e0%b8%82%e0%b8%b2%e0%b9%83%e0%b8%ab%e0%b8%8d%e0%b9%88-%e0%b8%9b%e0%b8%b2%e0%b8%81%e0%b8%8a%e0%b9%88%e0%b8%ad%e0%b8%87-trail-%e0%b9%80%e0%b8%a5%e0%b8%b7%e0%b9%88%e0%b8%ad%e0%b8%99/
URL:https://patrunning.com/events/peak-%e0%b9%80%e0%b8%82%e0%b8%b2%e0%b9%83%e0%b8%ab%e0%b8%8d%e0%b9%88-%e0%b8%9b%e0%b8%b2%e0%b8%81%e0%b8%8a%e0%b9%88%e0%b8%ad%e0%b8%87-trail-%e0%b9%80%e0%b8%a5%e0%b8%b7%e0%b9%88%e0%b8%ad%e0%b8%99/
END:VEVENT
END:VCALENDAR