BEGIN:VCALENDAR
VERSION:2.0
PRODID:-//eventon.com NONSGML v1.0//EN
CALSCALE:GREGORIAN
METHOD:PUBLISH
BEGIN:VEVENT
UID:69e7886857f4d
DTSTAMP:20260421T212336
DTSTART:20210417T170000Z
DTEND:20210417T170000Z
TZID:Asia/Bangkok
LOCATION:ประจวบคีรีขันธ์ 
SUMMARY:วิ่งเพื่อน้อง Prachuap KhiriKhan Run 2021 (เลื่อนรอกำหนดใหม่)
DESCRIPTION: วิ่งเพื่อน้อง Prachuap KhiriKhan Run 2021 (เลื่อนรอกำหนดใหม่)\nhttps://patrunning.com/events/%e0%b8%a7%e0%b8%b4%e0%b9%88%e0%b8%87%e0%b9%80%e0%b8%9e%e0%b8%b7%e0%b9%88%e0%b8%ad%e0%b8%99%e0%b9%89%e0%b8%ad%e0%b8%87-prachuap-khirikhan-run-2021-%e0%b9%80%e0%b8%a5%e0%b8%b7%e0%b9%88%e0%b8%ad/
URL:https://patrunning.com/events/%e0%b8%a7%e0%b8%b4%e0%b9%88%e0%b8%87%e0%b9%80%e0%b8%9e%e0%b8%b7%e0%b9%88%e0%b8%ad%e0%b8%99%e0%b9%89%e0%b8%ad%e0%b8%87-prachuap-khirikhan-run-2021-%e0%b9%80%e0%b8%a5%e0%b8%b7%e0%b9%88%e0%b8%ad/
END:VEVENT
END:VCALENDAR