BEGIN:VCALENDAR
VERSION:2.0
PRODID:-//eventon.com NONSGML v1.0//EN
CALSCALE:GREGORIAN
METHOD:PUBLISH
BEGIN:VEVENT
UID:69e7b57893bba
DTSTAMP:20260422T003552
DTSTART:20210227T170000Z
DTEND:20210227T170000Z
TZID:Asia/Bangkok
LOCATION:ระยอง 
SUMMARY:เขางวงช้าง TRAIL ปี 2020
DESCRIPTION: เขางวงช้าง TRAIL ปี 2020\nhttps://patrunning.com/events/%e0%b9%80%e0%b8%82%e0%b8%b2%e0%b8%87%e0%b8%a7%e0%b8%87%e0%b8%8a%e0%b9%89%e0%b8%b2%e0%b8%87-trail-%e0%b8%9b%e0%b8%b5-2020/
URL:https://patrunning.com/events/%e0%b9%80%e0%b8%82%e0%b8%b2%e0%b8%87%e0%b8%a7%e0%b8%87%e0%b8%8a%e0%b9%89%e0%b8%b2%e0%b8%87-trail-%e0%b8%9b%e0%b8%b5-2020/
END:VEVENT
END:VCALENDAR