BEGIN:VCALENDAR
VERSION:2.0
PRODID:-//eventon.com NONSGML v1.0//EN
CALSCALE:GREGORIAN
METHOD:PUBLISH
BEGIN:VEVENT
UID:69ebc9dda4306
DTSTAMP:20260425T025157
DTSTART:20210220T170000Z
DTEND:20210220T170000Z
TZID:Asia/Bangkok
LOCATION:นครพนม 
SUMMARY:เรือไฟรัน I Nakhonphanom Half Marathon 2021 (เลื่อนรอกำหนดใหม่)
DESCRIPTION: เรือไฟรัน I Nakhonphanom Half Marathon 2021 (เลื่อนรอกำหนดใหม่)\nhttps://patrunning.com/events/%e0%b9%80%e0%b8%a3%e0%b8%b7%e0%b8%ad%e0%b9%84%e0%b8%9f%e0%b8%a3%e0%b8%b1%e0%b8%99-i-nakhonphanom-half-marathon-2021-%e0%b9%80%e0%b8%a5%e0%b8%b7%e0%b9%88%e0%b8%ad%e0%b8%99%e0%b8%a3%e0%b8%ad%e0%b8%81/
URL:https://patrunning.com/events/%e0%b9%80%e0%b8%a3%e0%b8%b7%e0%b8%ad%e0%b9%84%e0%b8%9f%e0%b8%a3%e0%b8%b1%e0%b8%99-i-nakhonphanom-half-marathon-2021-%e0%b9%80%e0%b8%a5%e0%b8%b7%e0%b9%88%e0%b8%ad%e0%b8%99%e0%b8%a3%e0%b8%ad%e0%b8%81/
END:VEVENT
END:VCALENDAR