BEGIN:VCALENDAR
VERSION:2.0
PRODID:-//eventon.com NONSGML v1.0//EN
CALSCALE:GREGORIAN
METHOD:PUBLISH
BEGIN:VEVENT
UID:69e78883aacf1
DTSTAMP:20260421T212403
DTSTART:20210214T110000Z
DTEND:20210214T110000Z
TZID:Pacific/Midway
LOCATION:ประจวบคีรีขันธ์ 
SUMMARY:Buengbua Samroiyod Run บึงบัวสามร้อยยอดรัน (เลื่อนไป 13 ก.พ.65)
DESCRIPTION: Buengbua Samroiyod Run บึงบัวสามร้อยยอดรัน (เลื่อนไป 13 ก.พ.65)\nhttps://patrunning.com/events/buengbua-samroiyod-run-%e0%b8%9a%e0%b8%b6%e0%b8%87%e0%b8%9a%e0%b8%b1%e0%b8%a7%e0%b8%aa%e0%b8%b2%e0%b8%a1%e0%b8%a3%e0%b9%89%e0%b8%ad%e0%b8%a2%e0%b8%a2%e0%b8%ad%e0%b8%94%e0%b8%a3%e0%b8%b1%e0%b8%99/
URL:https://patrunning.com/events/buengbua-samroiyod-run-%e0%b8%9a%e0%b8%b6%e0%b8%87%e0%b8%9a%e0%b8%b1%e0%b8%a7%e0%b8%aa%e0%b8%b2%e0%b8%a1%e0%b8%a3%e0%b9%89%e0%b8%ad%e0%b8%a2%e0%b8%a2%e0%b8%ad%e0%b8%94%e0%b8%a3%e0%b8%b1%e0%b8%99/
END:VEVENT
END:VCALENDAR