BEGIN:VCALENDAR
VERSION:2.0
PRODID:-//eventon.com NONSGML v1.0//EN
CALSCALE:GREGORIAN
METHOD:PUBLISH
BEGIN:VEVENT
UID:69e7f80f07732
DTSTAMP:20260422T051959
DTSTART:20210213T170000Z
DTEND:20210213T170000Z
TZID:Asia/Bangkok
LOCATION:นครราชสีมา 
SUMMARY:วังไทรมินิฮาล์ฟมาราธอน 2021 (เลื่อนไป 21 มี.ค.)
DESCRIPTION: วังไทรมินิฮาล์ฟมาราธอน 2021 (เลื่อนไป 21 มี.ค.)\nhttps://patrunning.com/events/%e0%b8%a7%e0%b8%b1%e0%b8%87%e0%b9%84%e0%b8%97%e0%b8%a3%e0%b8%a1%e0%b8%b4%e0%b8%99%e0%b8%b4%e0%b8%ae%e0%b8%b2%e0%b8%a5%e0%b9%8c%e0%b8%9f%e0%b8%a1%e0%b8%b2%e0%b8%a3%e0%b8%b2%e0%b8%98%e0%b8%ad%e0%b8%99-2/
URL:https://patrunning.com/events/%e0%b8%a7%e0%b8%b1%e0%b8%87%e0%b9%84%e0%b8%97%e0%b8%a3%e0%b8%a1%e0%b8%b4%e0%b8%99%e0%b8%b4%e0%b8%ae%e0%b8%b2%e0%b8%a5%e0%b9%8c%e0%b8%9f%e0%b8%a1%e0%b8%b2%e0%b8%a3%e0%b8%b2%e0%b8%98%e0%b8%ad%e0%b8%99-2/
END:VEVENT
END:VCALENDAR