BEGIN:VCALENDAR
VERSION:2.0
PRODID:-//eventon.com NONSGML v1.0//EN
CALSCALE:GREGORIAN
METHOD:PUBLISH
BEGIN:VEVENT
UID:69e7b578955c3
DTSTAMP:20260422T003552
DTSTART:20210213T170000Z
DTEND:20210213T170000Z
TZID:Asia/Bangkok
LOCATION:ระยอง 
SUMMARY:วิ่งอิ่มบุญ อุ่นไอรัก ครั้งที่ 1 (เลื่อนรอกำหนดใหม่)
DESCRIPTION: วิ่งอิ่มบุญ อุ่นไอรัก ครั้งที่ 1 (เลื่อนรอกำหนดใหม่)\nhttps://patrunning.com/events/%e0%b8%a7%e0%b8%b4%e0%b9%88%e0%b8%87%e0%b8%ad%e0%b8%b4%e0%b9%88%e0%b8%a1%e0%b8%9a%e0%b8%b8%e0%b8%8d-%e0%b8%ad%e0%b8%b8%e0%b9%88%e0%b8%99%e0%b9%84%e0%b8%ad%e0%b8%a3%e0%b8%b1%e0%b8%81-%e0%b8%84%e0%b8%a3/
URL:https://patrunning.com/events/%e0%b8%a7%e0%b8%b4%e0%b9%88%e0%b8%87%e0%b8%ad%e0%b8%b4%e0%b9%88%e0%b8%a1%e0%b8%9a%e0%b8%b8%e0%b8%8d-%e0%b8%ad%e0%b8%b8%e0%b9%88%e0%b8%99%e0%b9%84%e0%b8%ad%e0%b8%a3%e0%b8%b1%e0%b8%81-%e0%b8%84%e0%b8%a3/
END:VEVENT
END:VCALENDAR