BEGIN:VCALENDAR
VERSION:2.0
PRODID:-//eventon.com NONSGML v1.0//EN
CALSCALE:GREGORIAN
METHOD:PUBLISH
BEGIN:VEVENT
UID:69e7b5321d922
DTSTAMP:20260422T003442
DTSTART:20210213T170000Z
DTEND:20210213T170000Z
TZID:Asia/Bangkok
LOCATION:ระยอง 
SUMMARY:Ban Chang Super Half Marathon 2021 : On The Beach (เลื่อนไป 20 มิ.ย.)
DESCRIPTION: Ban Chang Super Half Marathon 2021 : On The Beach (เลื่อนไป 20 มิ.ย.)\nhttps://patrunning.com/events/ban-chang-super-half-marathon-2021-on-the-beach-%e0%b9%80%e0%b8%a5%e0%b8%b7%e0%b9%88%e0%b8%ad%e0%b8%99%e0%b9%84%e0%b8%9b-20-%e0%b8%a1%e0%b8%b4-%e0%b8%a2/
URL:https://patrunning.com/events/ban-chang-super-half-marathon-2021-on-the-beach-%e0%b9%80%e0%b8%a5%e0%b8%b7%e0%b9%88%e0%b8%ad%e0%b8%99%e0%b9%84%e0%b8%9b-20-%e0%b8%a1%e0%b8%b4-%e0%b8%a2/
END:VEVENT
END:VCALENDAR