BEGIN:VCALENDAR
VERSION:2.0
PRODID:-//eventon.com NONSGML v1.0//EN
CALSCALE:GREGORIAN
METHOD:PUBLISH
BEGIN:VEVENT
UID:69e7b53ea0939
DTSTAMP:20260422T003454
DTSTART:20210620T110000Z
DTEND:20210620T110000Z
TZID:Pacific/Midway
LOCATION:ระยอง 
SUMMARY:Ban Chang Super Half Marathon 2021 : On The Beach (เลื่อนรอกำหนดใหม่)
DESCRIPTION: Ban Chang Super Half Marathon 2021 : On The Beach (เลื่อนรอกำหนดใหม่)\nhttps://patrunning.com/events/ban-chang-super-half-marathon-2021-on-the-beach-%e0%b9%80%e0%b8%a5%e0%b8%b7%e0%b9%88%e0%b8%ad%e0%b8%99%e0%b8%a1%e0%b8%b2%e0%b8%88%e0%b8%b2%e0%b8%81-14-%e0%b8%81-%e0%b8%9e/
URL:https://patrunning.com/events/ban-chang-super-half-marathon-2021-on-the-beach-%e0%b9%80%e0%b8%a5%e0%b8%b7%e0%b9%88%e0%b8%ad%e0%b8%99%e0%b8%a1%e0%b8%b2%e0%b8%88%e0%b8%b2%e0%b8%81-14-%e0%b8%81-%e0%b8%9e/
END:VEVENT
END:VCALENDAR