BEGIN:VCALENDAR
VERSION:2.0
PRODID:-//eventon.com NONSGML v1.0//EN
CALSCALE:GREGORIAN
METHOD:PUBLISH
BEGIN:VEVENT
UID:69e7523065bdb
DTSTAMP:20260421T173216
DTSTART:20210612T110000Z
DTEND:20210613T110000Z
TZID:Pacific/Midway
LOCATION:สระบุรี 
SUMMARY:Muak Lek Trail 2021 – Mlt (เลื่อนไป 6 ก.พ.65)
DESCRIPTION: Muak Lek Trail 2021 – Mlt (เลื่อนไป 6 ก.พ.65)\nhttps://patrunning.com/events/muak-lek-trail-2021-mlt-%e0%b9%80%e0%b8%a5%e0%b8%b7%e0%b9%88%e0%b8%ad%e0%b8%99%e0%b8%a1%e0%b8%b2%e0%b8%88%e0%b8%b2%e0%b8%81-30-31-%e0%b8%a1-%e0%b8%84/
URL:https://patrunning.com/events/muak-lek-trail-2021-mlt-%e0%b9%80%e0%b8%a5%e0%b8%b7%e0%b9%88%e0%b8%ad%e0%b8%99%e0%b8%a1%e0%b8%b2%e0%b8%88%e0%b8%b2%e0%b8%81-30-31-%e0%b8%a1-%e0%b8%84/
END:VEVENT
END:VCALENDAR