BEGIN:VCALENDAR
VERSION:2.0
PRODID:-//eventon.com NONSGML v1.0//EN
CALSCALE:GREGORIAN
METHOD:PUBLISH
BEGIN:VEVENT
UID:69e7f7b105e76
DTSTAMP:20260422T051825
DTSTART:20210618T170000Z
DTEND:20210619T170000Z
TZID:Asia/Bangkok
LOCATION:นครราชสีมา 
SUMMARY:Cuesta X Trail 2021 # Zero Edition (เลื่อนไป 20-21 พ.ย.)
DESCRIPTION: Cuesta X Trail 2021 # Zero Edition (เลื่อนไป 20-21 พ.ย.)\nhttps://patrunning.com/events/cuesta-x-trail-2021-zero-edition/
URL:https://patrunning.com/events/cuesta-x-trail-2021-zero-edition/
END:VEVENT
END:VCALENDAR