BEGIN:VCALENDAR
VERSION:2.0
PRODID:-//eventon.com NONSGML v1.0//EN
CALSCALE:GREGORIAN
METHOD:PUBLISH
BEGIN:VEVENT
UID:69e7b53371ab7
DTSTAMP:20260422T003443
DTSTART:20200627T170000Z
DTEND:20200627T170000Z
TZID:Asia/Bangkok
LOCATION:ระยอง 
SUMMARY:Peak Mountain Khao Yaida Trail 2020 (เลื่อนไป 27 มิ.ย.64)
DESCRIPTION: Peak Mountain Khao Yaida Trail 2020 (เลื่อนไป 27 มิ.ย.64)\nhttps://patrunning.com/events/peak-mountain-khao-yaida-trail-2020-%e0%b9%80%e0%b8%a5%e0%b8%b7%e0%b9%88%e0%b8%ad%e0%b8%99%e0%b9%84%e0%b8%9b-27-%e0%b8%a1%e0%b8%b4-%e0%b8%a2-64/
URL:https://patrunning.com/events/peak-mountain-khao-yaida-trail-2020-%e0%b9%80%e0%b8%a5%e0%b8%b7%e0%b9%88%e0%b8%ad%e0%b8%99%e0%b9%84%e0%b8%9b-27-%e0%b8%a1%e0%b8%b4-%e0%b8%a2-64/
END:VEVENT
END:VCALENDAR