BEGIN:VCALENDAR
VERSION:2.0
PRODID:-//eventon.com NONSGML v1.0//EN
CALSCALE:GREGORIAN
METHOD:PUBLISH
BEGIN:VEVENT
UID:69e7b588da397
DTSTAMP:20260422T003608
DTSTART:20210313T170000Z
DTEND:20210313T170000Z
TZID:Asia/Bangkok
LOCATION:ระยอง 
SUMMARY:PALA RUN 2 (เลื่อนไป 4 ก.ค.)
DESCRIPTION: PALA RUN 2 (เลื่อนไป 4 ก.ค.)\nhttps://patrunning.com/events/pala-run-2-%e0%b9%80%e0%b8%a5%e0%b8%b7%e0%b9%88%e0%b8%ad%e0%b8%99%e0%b9%84%e0%b8%9b-4-%e0%b8%81-%e0%b8%84/
URL:https://patrunning.com/events/pala-run-2-%e0%b9%80%e0%b8%a5%e0%b8%b7%e0%b9%88%e0%b8%ad%e0%b8%99%e0%b9%84%e0%b8%9b-4-%e0%b8%81-%e0%b8%84/
END:VEVENT
END:VCALENDAR