BEGIN:VCALENDAR
VERSION:2.0
PRODID:-//eventon.com NONSGML v1.0//EN
CALSCALE:GREGORIAN
METHOD:PUBLISH
BEGIN:VEVENT
UID:69e7b57950f65
DTSTAMP:20260422T003553
DTSTART:20210704T110000Z
DTEND:20210704T110000Z
TZID:Pacific/Midway
LOCATION:ระยอง 
SUMMARY:PALA RUN 2 (เลื่อนไป 27 ก.พ.65)
DESCRIPTION: PALA RUN 2 (เลื่อนไป 27 ก.พ.65)\nhttps://patrunning.com/events/pala-run-2-%e0%b9%80%e0%b8%a5%e0%b8%b7%e0%b9%88%e0%b8%ad%e0%b8%99%e0%b8%a1%e0%b8%b2%e0%b8%88%e0%b8%b2%e0%b8%81-14-%e0%b8%a1%e0%b8%b5-%e0%b8%84/
URL:https://patrunning.com/events/pala-run-2-%e0%b9%80%e0%b8%a5%e0%b8%b7%e0%b9%88%e0%b8%ad%e0%b8%99%e0%b8%a1%e0%b8%b2%e0%b8%88%e0%b8%b2%e0%b8%81-14-%e0%b8%a1%e0%b8%b5-%e0%b8%84/
END:VEVENT
END:VCALENDAR