BEGIN:VCALENDAR
VERSION:2.0
PRODID:-//eventon.com NONSGML v1.0//EN
CALSCALE:GREGORIAN
METHOD:PUBLISH
BEGIN:VEVENT
UID:69e7b5321317a
DTSTAMP:20260422T003442
DTSTART:20200822T170000Z
DTEND:20200822T170000Z
TZID:Asia/Bangkok
LOCATION:ระยอง 
SUMMARY:Aloha Lady Run 2020 Season 3 (เลื่อนไป 22 ส.ค.64)
DESCRIPTION: Aloha Lady Run 2020 Season 3 (เลื่อนไป 22 ส.ค.64)\nhttps://patrunning.com/events/aloha-lady-run-2020-season-3-%e0%b9%80%e0%b8%a5%e0%b8%b7%e0%b9%88%e0%b8%ad%e0%b8%99%e0%b9%84%e0%b8%9b-22-%e0%b8%aa-%e0%b8%84-64/
URL:https://patrunning.com/events/aloha-lady-run-2020-season-3-%e0%b9%80%e0%b8%a5%e0%b8%b7%e0%b9%88%e0%b8%ad%e0%b8%99%e0%b9%84%e0%b8%9b-22-%e0%b8%aa-%e0%b8%84-64/
END:VEVENT
END:VCALENDAR