BEGIN:VCALENDAR
VERSION:2.0
PRODID:-//eventon.com NONSGML v1.0//EN
CALSCALE:GREGORIAN
METHOD:PUBLISH
BEGIN:VEVENT
UID:69e7c94d9dc1e
DTSTAMP:20260422T020029
DTSTART:20210822T110000Z
DTEND:20210822T110000Z
TZID:Pacific/Midway
LOCATION:ระยอง 
SUMMARY:Aloha Lady Run 2020 Season 3 (เลื่อนไป 21 ส.ค.65)
DESCRIPTION: Aloha Lady Run 2020 Season 3 (เลื่อนไป 21 ส.ค.65)\nhttps://patrunning.com/events/aloha-lady-run-2020-season-3-%e0%b9%80%e0%b8%a5%e0%b8%b7%e0%b9%88%e0%b8%ad%e0%b8%99%e0%b8%a1%e0%b8%b2%e0%b8%88%e0%b8%b2%e0%b8%81-23-%e0%b8%aa-%e0%b8%84-63/
URL:https://patrunning.com/events/aloha-lady-run-2020-season-3-%e0%b9%80%e0%b8%a5%e0%b8%b7%e0%b9%88%e0%b8%ad%e0%b8%99%e0%b8%a1%e0%b8%b2%e0%b8%88%e0%b8%b2%e0%b8%81-23-%e0%b8%aa-%e0%b8%84-63/
END:VEVENT
END:VCALENDAR