BEGIN:VCALENDAR
VERSION:2.0
PRODID:-//eventon.com NONSGML v1.0//EN
CALSCALE:GREGORIAN
METHOD:PUBLISH
BEGIN:VEVENT
UID:69e7f7c6ee2a7
DTSTAMP:20260422T051846
DTSTART:20210904T110000Z
DTEND:20210904T110000Z
TZID:Pacific/Midway
LOCATION:นครราชสีมา 
SUMMARY:พิมายวิทยามินิมาราธอน 2021 (เลื่้อนไม่มีกำหนด)
DESCRIPTION: พิมายวิทยามินิมาราธอน 2021 (เลื่้อนไม่มีกำหนด)\nhttps://patrunning.com/events/%e0%b8%9e%e0%b8%b4%e0%b8%a1%e0%b8%b2%e0%b8%a2%e0%b8%a7%e0%b8%b4%e0%b8%97%e0%b8%a2%e0%b8%b2%e0%b8%a1%e0%b8%b4%e0%b8%99%e0%b8%b4%e0%b8%a1%e0%b8%b2%e0%b8%a3%e0%b8%b2%e0%b8%98%e0%b8%ad%e0%b8%99-2021-2/
URL:https://patrunning.com/events/%e0%b8%9e%e0%b8%b4%e0%b8%a1%e0%b8%b2%e0%b8%a2%e0%b8%a7%e0%b8%b4%e0%b8%97%e0%b8%a2%e0%b8%b2%e0%b8%a1%e0%b8%b4%e0%b8%99%e0%b8%b4%e0%b8%a1%e0%b8%b2%e0%b8%a3%e0%b8%b2%e0%b8%98%e0%b8%ad%e0%b8%99-2021-2/
END:VEVENT
END:VCALENDAR