BEGIN:VCALENDAR
VERSION:2.0
PRODID:-//eventon.com NONSGML v1.0//EN
CALSCALE:GREGORIAN
METHOD:PUBLISH
BEGIN:VEVENT
UID:69e7c94d9c7f3
DTSTAMP:20260422T020029
DTSTART:20210912T110000Z
DTEND:20210912T110000Z
TZID:Pacific/Midway
LOCATION:ระยอง 
SUMMARY:The Legendary Trail Series 2021 WANGCHAN50 (เลื่อนไป 27 มี.ค.65)
DESCRIPTION: The Legendary Trail Series 2021 WANGCHAN50 (เลื่อนไป 27 มี.ค.65)\nhttps://patrunning.com/events/the-legendary-trail-series-2021-wangchan50/
URL:https://patrunning.com/events/the-legendary-trail-series-2021-wangchan50/
END:VEVENT
END:VCALENDAR