BEGIN:VCALENDAR
VERSION:2.0
PRODID:-//eventon.com NONSGML v1.0//EN
CALSCALE:GREGORIAN
METHOD:PUBLISH
BEGIN:VEVENT
UID:69e7f7b0856ae
DTSTAMP:20260422T051824
DTSTART:20210919T110000Z
DTEND:20210919T110000Z
TZID:Pacific/Midway
LOCATION:นครราชสีมา 
SUMMARY:เขาแผงม้า Marathon 2021 ครั้งที่ 5 (เลื่อนไป 27 ก.พ.65)
DESCRIPTION: เขาแผงม้า Marathon 2021 ครั้งที่ 5 (เลื่อนไป 27 ก.พ.65)\nhttps://patrunning.com/events/%e0%b9%80%e0%b8%82%e0%b8%b2%e0%b9%81%e0%b8%9c%e0%b8%87%e0%b8%a1%e0%b9%89%e0%b8%b2-marathon-2021-%e0%b8%84%e0%b8%a3%e0%b8%b1%e0%b9%89%e0%b8%87%e0%b8%97%e0%b8%b5%e0%b9%88-5/
URL:https://patrunning.com/events/%e0%b9%80%e0%b8%82%e0%b8%b2%e0%b9%81%e0%b8%9c%e0%b8%87%e0%b8%a1%e0%b9%89%e0%b8%b2-marathon-2021-%e0%b8%84%e0%b8%a3%e0%b8%b1%e0%b9%89%e0%b8%87%e0%b8%97%e0%b8%b5%e0%b9%88-5/
END:VEVENT
END:VCALENDAR