BEGIN:VCALENDAR
VERSION:2.0
PRODID:-//eventon.com NONSGML v1.0//EN
CALSCALE:GREGORIAN
METHOD:PUBLISH
BEGIN:VEVENT
UID:69e829f0c5d0e
DTSTAMP:20260422T085248
DTSTART:20210123T170000Z
DTEND:20210123T170000Z
TZID:Asia/Bangkok
LOCATION:นครราชสีมา 
SUMMARY:PEAK เขาใหญ่ ปากช่อง trail  (เลื่อนไป 16 พ.ค.)
DESCRIPTION: PEAK เขาใหญ่ ปากช่อง trail  (เลื่อนไป 16 พ.ค.)\nhttps://patrunning.com/events/peak-%e0%b9%80%e0%b8%82%e0%b8%b2%e0%b9%83%e0%b8%ab%e0%b8%8d%e0%b9%88-%e0%b8%9b%e0%b8%b2%e0%b8%81%e0%b8%8a%e0%b9%88%e0%b8%ad%e0%b8%87-trail-%e0%b9%80%e0%b8%a5%e0%b8%b7%e0%b9%88%e0%b8%ad%e0%b8%99-2/
URL:https://patrunning.com/events/peak-%e0%b9%80%e0%b8%82%e0%b8%b2%e0%b9%83%e0%b8%ab%e0%b8%8d%e0%b9%88-%e0%b8%9b%e0%b8%b2%e0%b8%81%e0%b8%8a%e0%b9%88%e0%b8%ad%e0%b8%87-trail-%e0%b9%80%e0%b8%a5%e0%b8%b7%e0%b9%88%e0%b8%ad%e0%b8%99-2/
END:VEVENT
END:VCALENDAR