BEGIN:VCALENDAR
VERSION:2.0
PRODID:-//eventon.com NONSGML v1.0//EN
CALSCALE:GREGORIAN
METHOD:PUBLISH
BEGIN:VEVENT
UID:69e7887f666d6
DTSTAMP:20260421T212359
DTSTART:20210206T170000Z
DTEND:20210206T170000Z
TZID:Asia/Bangkok
LOCATION:ประจวบคีรีขันธ์ 
SUMMARY:Hua Hin Women’s Half Marathon (เลื่อนไป 15 ส.ค.)
DESCRIPTION: Hua Hin Women’s Half Marathon (เลื่อนไป 15 ส.ค.)\nhttps://patrunning.com/events/hua-hin-womens-half-marathon-%e0%b9%80%e0%b8%a5%e0%b8%b7%e0%b9%88%e0%b8%ad%e0%b8%99%e0%b9%84%e0%b8%9b-15-%e0%b8%aa-%e0%b8%84/
URL:https://patrunning.com/events/hua-hin-womens-half-marathon-%e0%b9%80%e0%b8%a5%e0%b8%b7%e0%b9%88%e0%b8%ad%e0%b8%99%e0%b9%84%e0%b8%9b-15-%e0%b8%aa-%e0%b8%84/
END:VEVENT
END:VCALENDAR