BEGIN:VCALENDAR
VERSION:2.0
PRODID:-//eventon.com NONSGML v1.0//EN
CALSCALE:GREGORIAN
METHOD:PUBLISH
BEGIN:VEVENT
UID:69e7c958d6df5
DTSTAMP:20260422T020040
DTSTART:20210227T170000Z
DTEND:20210227T170000Z
TZID:Asia/Bangkok
LOCATION:ระยอง 
SUMMARY:วัดบ้านค่าย มินิมาราธอน ครั้งที่ 2 (เลื่อนรอกำหนดใหม่)
DESCRIPTION: วัดบ้านค่าย มินิมาราธอน ครั้งที่ 2 (เลื่อนรอกำหนดใหม่)\nhttps://patrunning.com/events/%e0%b8%a7%e0%b8%b1%e0%b8%94%e0%b8%9a%e0%b9%89%e0%b8%b2%e0%b8%99%e0%b8%84%e0%b9%88%e0%b8%b2%e0%b8%a2-%e0%b8%a1%e0%b8%b4%e0%b8%99%e0%b8%b4%e0%b8%a1%e0%b8%b2%e0%b8%a3%e0%b8%b2%e0%b8%98%e0%b8%ad%e0%b8%99/
URL:https://patrunning.com/events/%e0%b8%a7%e0%b8%b1%e0%b8%94%e0%b8%9a%e0%b9%89%e0%b8%b2%e0%b8%99%e0%b8%84%e0%b9%88%e0%b8%b2%e0%b8%a2-%e0%b8%a1%e0%b8%b4%e0%b8%99%e0%b8%b4%e0%b8%a1%e0%b8%b2%e0%b8%a3%e0%b8%b2%e0%b8%98%e0%b8%ad%e0%b8%99/
END:VEVENT
END:VCALENDAR