BEGIN:VCALENDAR
VERSION:2.0
PRODID:-//eventon.com NONSGML v1.0//EN
CALSCALE:GREGORIAN
METHOD:PUBLISH
BEGIN:VEVENT
UID:69e8113007bb1
DTSTAMP:20260422T070712
DTSTART:20211119T170000Z
DTEND:20211120T170000Z
TZID:Asia/Bangkok
LOCATION:นครราชสีมา 
SUMMARY:Cuesta X Trail 2021 # Zero Edition
DESCRIPTION: Cuesta X Trail 2021 # Zero Edition\nhttps://patrunning.com/events/cuesta-x-trail-2021-zero-edition-2/
URL:https://patrunning.com/events/cuesta-x-trail-2021-zero-edition-2/
END:VEVENT
END:VCALENDAR