BEGIN:VCALENDAR
VERSION:2.0
PRODID:-//eventon.com NONSGML v1.0//EN
CALSCALE:GREGORIAN
METHOD:PUBLISH
BEGIN:VEVENT
UID:69e811480dd93
DTSTAMP:20260422T070736
DTSTART:20210529T170000Z
DTEND:20210529T170000Z
TZID:Asia/Bangkok
LOCATION:นครราชสีมา 
SUMMARY:DONGMAFAI TRAIL 2021 (เลื่อนไป 31 ต.ค.)
DESCRIPTION: DONGMAFAI TRAIL 2021 (เลื่อนไป 31 ต.ค.)\nhttps://patrunning.com/events/dongmafai-trail-2021/
URL:https://patrunning.com/events/dongmafai-trail-2021/
END:VEVENT
END:VCALENDAR