BEGIN:VCALENDAR
VERSION:2.0
PRODID:-//eventon.com NONSGML v1.0//EN
CALSCALE:GREGORIAN
METHOD:PUBLISH
BEGIN:VEVENT
UID:69e8114704ab4
DTSTAMP:20260422T070735
DTSTART:20211031T110000Z
DTEND:20211031T110000Z
TZID:Pacific/Midway
LOCATION:นครราชสีมา 
SUMMARY:DONGMAFAI TRAIL 2021 (เลื่อนไป 22 พ.ค.65)
DESCRIPTION: DONGMAFAI TRAIL 2021 (เลื่อนไป 22 พ.ค.65)\nhttps://patrunning.com/events/dongmafai-trail-2021-2/
URL:https://patrunning.com/events/dongmafai-trail-2021-2/
END:VEVENT
END:VCALENDAR