BEGIN:VCALENDAR
VERSION:2.0
PRODID:-//eventon.com NONSGML v1.0//EN
CALSCALE:GREGORIAN
METHOD:PUBLISH
BEGIN:VEVENT
UID:69e7c957d115e
DTSTAMP:20260422T020039
DTSTART:20211121T110000Z
DTEND:20211121T110000Z
TZID:Pacific/Midway
LOCATION:ระยอง 
SUMMARY:RUN FOR KIDS #6 วิ่งด้วยใจ ให้ด้วยรัก ครั้งที่ 6 (เปลี่ยนเป็น VIRTUAL RUN)
DESCRIPTION: RUN FOR KIDS #6 วิ่งด้วยใจ ให้ด้วยรัก ครั้งที่ 6 (เปลี่ยนเป็น VIRTUAL RUN)\nhttps://patrunning.com/events/run-for-kids-6-%e0%b8%a7%e0%b8%b4%e0%b9%88%e0%b8%87%e0%b8%94%e0%b9%89%e0%b8%a7%e0%b8%a2%e0%b9%83%e0%b8%88-%e0%b9%83%e0%b8%ab%e0%b9%89%e0%b8%94%e0%b9%89%e0%b8%a7%e0%b8%a2%e0%b8%a3%e0%b8%b1%e0%b8%81/
URL:https://patrunning.com/events/run-for-kids-6-%e0%b8%a7%e0%b8%b4%e0%b9%88%e0%b8%87%e0%b8%94%e0%b9%89%e0%b8%a7%e0%b8%a2%e0%b9%83%e0%b8%88-%e0%b9%83%e0%b8%ab%e0%b9%89%e0%b8%94%e0%b9%89%e0%b8%a7%e0%b8%a2%e0%b8%a3%e0%b8%b1%e0%b8%81/
END:VEVENT
END:VCALENDAR