BEGIN:VCALENDAR
VERSION:2.0
PRODID:-//eventon.com NONSGML v1.0//EN
CALSCALE:GREGORIAN
METHOD:PUBLISH
BEGIN:VEVENT
UID:69e76d7ec8d6d
DTSTAMP:20260421T192846
DTSTART:20201205T170000Z
DTEND:20201205T170000Z
TZID:Asia/Bangkok
LOCATION:ประจวบคีรีขันธ์ 
SUMMARY:Rattanakosin RMUTR Walk and Run 2020
DESCRIPTION: Rattanakosin RMUTR Walk and Run 2020\nhttps://patrunning.com/events/rattanakosin-rmutr-walk-and-run-2020/
URL:https://patrunning.com/events/rattanakosin-rmutr-walk-and-run-2020/
END:VEVENT
END:VCALENDAR